BEGIN:VCALENDAR
VERSION:2.0
PRODID:-//Executive Opportunities Forum - ECPv6.15.20//NONSGML v1.0//EN
CALSCALE:GREGORIAN
METHOD:PUBLISH
X-WR-CALNAME:Executive Opportunities Forum
X-ORIGINAL-URL:https://executiveopportunitiesforum.com
X-WR-CALDESC:Events for Executive Opportunities Forum
REFRESH-INTERVAL;VALUE=DURATION:PT1H
X-Robots-Tag:noindex
X-PUBLISHED-TTL:PT1H
BEGIN:VTIMEZONE
TZID:America/Denver
BEGIN:DAYLIGHT
TZOFFSETFROM:-0700
TZOFFSETTO:-0600
TZNAME:MDT
DTSTART:20250309T090000
END:DAYLIGHT
BEGIN:STANDARD
TZOFFSETFROM:-0600
TZOFFSETTO:-0700
TZNAME:MST
DTSTART:20251102T080000
END:STANDARD
BEGIN:DAYLIGHT
TZOFFSETFROM:-0700
TZOFFSETTO:-0600
TZNAME:MDT
DTSTART:20260308T090000
END:DAYLIGHT
BEGIN:STANDARD
TZOFFSETFROM:-0600
TZOFFSETTO:-0700
TZNAME:MST
DTSTART:20261101T080000
END:STANDARD
BEGIN:DAYLIGHT
TZOFFSETFROM:-0700
TZOFFSETTO:-0600
TZNAME:MDT
DTSTART:20270314T090000
END:DAYLIGHT
BEGIN:STANDARD
TZOFFSETFROM:-0600
TZOFFSETTO:-0700
TZNAME:MST
DTSTART:20271107T080000
END:STANDARD
BEGIN:DAYLIGHT
TZOFFSETFROM:-0700
TZOFFSETTO:-0600
TZNAME:MDT
DTSTART:20280312T090000
END:DAYLIGHT
BEGIN:STANDARD
TZOFFSETFROM:-0600
TZOFFSETTO:-0700
TZNAME:MST
DTSTART:20281105T080000
END:STANDARD
END:VTIMEZONE
BEGIN:VEVENT
DTSTART;TZID=America/Denver:20260428T073000
DTEND;TZID=America/Denver:20260428T093000
DTSTAMP:20260417T110752
CREATED:20241108T205956Z
LAST-MODIFIED:20241129T142934Z
UID:10000040-1777361400-1777368600@executiveopportunitiesforum.com
SUMMARY:EOF Meeting
DESCRIPTION:
URL:https://executiveopportunitiesforum.com/event/eof-meeting/2026-04-28/
END:VEVENT
BEGIN:VEVENT
DTSTART;TZID=America/Denver:20260512T073000
DTEND;TZID=America/Denver:20260512T093000
DTSTAMP:20260417T110752
CREATED:20241108T205956Z
LAST-MODIFIED:20241129T142934Z
UID:10000041-1778571000-1778578200@executiveopportunitiesforum.com
SUMMARY:EOF Meeting
DESCRIPTION:
URL:https://executiveopportunitiesforum.com/event/eof-meeting/2026-05-12/
END:VEVENT
BEGIN:VEVENT
DTSTART;TZID=America/Denver:20260526T073000
DTEND;TZID=America/Denver:20260526T093000
DTSTAMP:20260417T110752
CREATED:20241108T205956Z
LAST-MODIFIED:20241129T142934Z
UID:10000042-1779780600-1779787800@executiveopportunitiesforum.com
SUMMARY:EOF Meeting
DESCRIPTION:
URL:https://executiveopportunitiesforum.com/event/eof-meeting/2026-05-26/
END:VEVENT
BEGIN:VEVENT
DTSTART;TZID=America/Denver:20260609T073000
DTEND;TZID=America/Denver:20260609T093000
DTSTAMP:20260417T110752
CREATED:20241108T205956Z
LAST-MODIFIED:20241129T142934Z
UID:10000043-1780990200-1780997400@executiveopportunitiesforum.com
SUMMARY:EOF Meeting
DESCRIPTION:
URL:https://executiveopportunitiesforum.com/event/eof-meeting/2026-06-09/
END:VEVENT
BEGIN:VEVENT
DTSTART;TZID=America/Denver:20260623T073000
DTEND;TZID=America/Denver:20260623T093000
DTSTAMP:20260417T110752
CREATED:20241108T205956Z
LAST-MODIFIED:20241129T142934Z
UID:10000044-1782199800-1782207000@executiveopportunitiesforum.com
SUMMARY:EOF Meeting
DESCRIPTION:
URL:https://executiveopportunitiesforum.com/event/eof-meeting/2026-06-23/
END:VEVENT
BEGIN:VEVENT
DTSTART;TZID=America/Denver:20260707T073000
DTEND;TZID=America/Denver:20260707T093000
DTSTAMP:20260417T110752
CREATED:20241108T205956Z
LAST-MODIFIED:20241129T142934Z
UID:10000045-1783409400-1783416600@executiveopportunitiesforum.com
SUMMARY:EOF Meeting
DESCRIPTION:
URL:https://executiveopportunitiesforum.com/event/eof-meeting/2026-07-07/
END:VEVENT
BEGIN:VEVENT
DTSTART;TZID=America/Denver:20260721T073000
DTEND;TZID=America/Denver:20260721T093000
DTSTAMP:20260417T110752
CREATED:20241108T205956Z
LAST-MODIFIED:20241129T142934Z
UID:10000046-1784619000-1784626200@executiveopportunitiesforum.com
SUMMARY:EOF Meeting
DESCRIPTION:
URL:https://executiveopportunitiesforum.com/event/eof-meeting/2026-07-21/
END:VEVENT
BEGIN:VEVENT
DTSTART;TZID=America/Denver:20260804T073000
DTEND;TZID=America/Denver:20260804T093000
DTSTAMP:20260417T110752
CREATED:20241108T205956Z
LAST-MODIFIED:20241129T142934Z
UID:10000047-1785828600-1785835800@executiveopportunitiesforum.com
SUMMARY:EOF Meeting
DESCRIPTION:
URL:https://executiveopportunitiesforum.com/event/eof-meeting/2026-08-04/
END:VEVENT
BEGIN:VEVENT
DTSTART;TZID=America/Denver:20260818T073000
DTEND;TZID=America/Denver:20260818T093000
DTSTAMP:20260417T110752
CREATED:20241108T205956Z
LAST-MODIFIED:20241129T142934Z
UID:10000048-1787038200-1787045400@executiveopportunitiesforum.com
SUMMARY:EOF Meeting
DESCRIPTION:
URL:https://executiveopportunitiesforum.com/event/eof-meeting/2026-08-18/
END:VEVENT
BEGIN:VEVENT
DTSTART;TZID=America/Denver:20260901T073000
DTEND;TZID=America/Denver:20260901T093000
DTSTAMP:20260417T110752
CREATED:20241108T205956Z
LAST-MODIFIED:20241129T142934Z
UID:10000049-1788247800-1788255000@executiveopportunitiesforum.com
SUMMARY:EOF Meeting
DESCRIPTION:
URL:https://executiveopportunitiesforum.com/event/eof-meeting/2026-09-01/
END:VEVENT
BEGIN:VEVENT
DTSTART;TZID=America/Denver:20260915T073000
DTEND;TZID=America/Denver:20260915T093000
DTSTAMP:20260417T110752
CREATED:20241108T205956Z
LAST-MODIFIED:20241129T142934Z
UID:10000050-1789457400-1789464600@executiveopportunitiesforum.com
SUMMARY:EOF Meeting
DESCRIPTION:
URL:https://executiveopportunitiesforum.com/event/eof-meeting/2026-09-15/
END:VEVENT
BEGIN:VEVENT
DTSTART;TZID=America/Denver:20260929T073000
DTEND;TZID=America/Denver:20260929T093000
DTSTAMP:20260417T110752
CREATED:20241108T205956Z
LAST-MODIFIED:20241129T142934Z
UID:10000051-1790667000-1790674200@executiveopportunitiesforum.com
SUMMARY:EOF Meeting
DESCRIPTION:
URL:https://executiveopportunitiesforum.com/event/eof-meeting/2026-09-29/
END:VEVENT
BEGIN:VEVENT
DTSTART;TZID=America/Denver:20261013T073000
DTEND;TZID=America/Denver:20261013T093000
DTSTAMP:20260417T110752
CREATED:20241108T205956Z
LAST-MODIFIED:20241129T142934Z
UID:10000052-1791876600-1791883800@executiveopportunitiesforum.com
SUMMARY:EOF Meeting
DESCRIPTION:
URL:https://executiveopportunitiesforum.com/event/eof-meeting/2026-10-13/
END:VEVENT
BEGIN:VEVENT
DTSTART;TZID=America/Denver:20261027T073000
DTEND;TZID=America/Denver:20261027T093000
DTSTAMP:20260417T110752
CREATED:20241108T205956Z
LAST-MODIFIED:20241129T142934Z
UID:10000053-1793086200-1793093400@executiveopportunitiesforum.com
SUMMARY:EOF Meeting
DESCRIPTION:
URL:https://executiveopportunitiesforum.com/event/eof-meeting/2026-10-27/
END:VEVENT
BEGIN:VEVENT
DTSTART;TZID=America/Denver:20261110T073000
DTEND;TZID=America/Denver:20261110T093000
DTSTAMP:20260417T110752
CREATED:20241108T205956Z
LAST-MODIFIED:20241129T142934Z
UID:10000054-1794295800-1794303000@executiveopportunitiesforum.com
SUMMARY:EOF Meeting
DESCRIPTION:
URL:https://executiveopportunitiesforum.com/event/eof-meeting/2026-11-10/
END:VEVENT
BEGIN:VEVENT
DTSTART;TZID=America/Denver:20261124T073000
DTEND;TZID=America/Denver:20261124T093000
DTSTAMP:20260417T110752
CREATED:20241108T205956Z
LAST-MODIFIED:20241129T142934Z
UID:10000055-1795505400-1795512600@executiveopportunitiesforum.com
SUMMARY:EOF Meeting
DESCRIPTION:
URL:https://executiveopportunitiesforum.com/event/eof-meeting/2026-11-24/
END:VEVENT
BEGIN:VEVENT
DTSTART;TZID=America/Denver:20261208T073000
DTEND;TZID=America/Denver:20261208T093000
DTSTAMP:20260417T110752
CREATED:20241108T205956Z
LAST-MODIFIED:20241129T142934Z
UID:10000056-1796715000-1796722200@executiveopportunitiesforum.com
SUMMARY:EOF Meeting
DESCRIPTION:
URL:https://executiveopportunitiesforum.com/event/eof-meeting/2026-12-08/
END:VEVENT
BEGIN:VEVENT
DTSTART;TZID=America/Denver:20261222T073000
DTEND;TZID=America/Denver:20261222T093000
DTSTAMP:20260417T110752
CREATED:20241108T205956Z
LAST-MODIFIED:20241129T142934Z
UID:10000057-1797924600-1797931800@executiveopportunitiesforum.com
SUMMARY:EOF Meeting
DESCRIPTION:
URL:https://executiveopportunitiesforum.com/event/eof-meeting/2026-12-22/
END:VEVENT
BEGIN:VEVENT
DTSTART;TZID=America/Denver:20270105T073000
DTEND;TZID=America/Denver:20270105T093000
DTSTAMP:20260417T110752
CREATED:20241108T205956Z
LAST-MODIFIED:20241129T142934Z
UID:10000058-1799134200-1799141400@executiveopportunitiesforum.com
SUMMARY:EOF Meeting
DESCRIPTION:
URL:https://executiveopportunitiesforum.com/event/eof-meeting/2027-01-05/
END:VEVENT
BEGIN:VEVENT
DTSTART;TZID=America/Denver:20270119T073000
DTEND;TZID=America/Denver:20270119T093000
DTSTAMP:20260417T110752
CREATED:20241108T205956Z
LAST-MODIFIED:20241129T142934Z
UID:10000059-1800343800-1800351000@executiveopportunitiesforum.com
SUMMARY:EOF Meeting
DESCRIPTION:
URL:https://executiveopportunitiesforum.com/event/eof-meeting/2027-01-19/
END:VEVENT
BEGIN:VEVENT
DTSTART;TZID=America/Denver:20270202T073000
DTEND;TZID=America/Denver:20270202T093000
DTSTAMP:20260417T110752
CREATED:20241108T205956Z
LAST-MODIFIED:20241129T142934Z
UID:10000060-1801553400-1801560600@executiveopportunitiesforum.com
SUMMARY:EOF Meeting
DESCRIPTION:
URL:https://executiveopportunitiesforum.com/event/eof-meeting/2027-02-02/
END:VEVENT
BEGIN:VEVENT
DTSTART;TZID=America/Denver:20270216T073000
DTEND;TZID=America/Denver:20270216T093000
DTSTAMP:20260417T110753
CREATED:20241108T205956Z
LAST-MODIFIED:20241129T142934Z
UID:10000061-1802763000-1802770200@executiveopportunitiesforum.com
SUMMARY:EOF Meeting
DESCRIPTION:
URL:https://executiveopportunitiesforum.com/event/eof-meeting/2027-02-16/
END:VEVENT
BEGIN:VEVENT
DTSTART;TZID=America/Denver:20270302T073000
DTEND;TZID=America/Denver:20270302T093000
DTSTAMP:20260417T110753
CREATED:20241108T205956Z
LAST-MODIFIED:20241129T142934Z
UID:10000062-1803972600-1803979800@executiveopportunitiesforum.com
SUMMARY:EOF Meeting
DESCRIPTION:
URL:https://executiveopportunitiesforum.com/event/eof-meeting/2027-03-02/
END:VEVENT
BEGIN:VEVENT
DTSTART;TZID=America/Denver:20270316T073000
DTEND;TZID=America/Denver:20270316T093000
DTSTAMP:20260417T110753
CREATED:20241108T205956Z
LAST-MODIFIED:20241129T142934Z
UID:10000063-1805182200-1805189400@executiveopportunitiesforum.com
SUMMARY:EOF Meeting
DESCRIPTION:
URL:https://executiveopportunitiesforum.com/event/eof-meeting/2027-03-16/
END:VEVENT
BEGIN:VEVENT
DTSTART;TZID=America/Denver:20270330T073000
DTEND;TZID=America/Denver:20270330T093000
DTSTAMP:20260417T110753
CREATED:20241108T205956Z
LAST-MODIFIED:20241129T142934Z
UID:10000064-1806391800-1806399000@executiveopportunitiesforum.com
SUMMARY:EOF Meeting
DESCRIPTION:
URL:https://executiveopportunitiesforum.com/event/eof-meeting/2027-03-30/
END:VEVENT
BEGIN:VEVENT
DTSTART;TZID=America/Denver:20270413T073000
DTEND;TZID=America/Denver:20270413T093000
DTSTAMP:20260417T110753
CREATED:20241108T205956Z
LAST-MODIFIED:20241129T142934Z
UID:10000065-1807601400-1807608600@executiveopportunitiesforum.com
SUMMARY:EOF Meeting
DESCRIPTION:
URL:https://executiveopportunitiesforum.com/event/eof-meeting/2027-04-13/
END:VEVENT
BEGIN:VEVENT
DTSTART;TZID=America/Denver:20270427T073000
DTEND;TZID=America/Denver:20270427T093000
DTSTAMP:20260417T110753
CREATED:20241108T205956Z
LAST-MODIFIED:20241129T142934Z
UID:10000066-1808811000-1808818200@executiveopportunitiesforum.com
SUMMARY:EOF Meeting
DESCRIPTION:
URL:https://executiveopportunitiesforum.com/event/eof-meeting/2027-04-27/
END:VEVENT
BEGIN:VEVENT
DTSTART;TZID=America/Denver:20270511T073000
DTEND;TZID=America/Denver:20270511T093000
DTSTAMP:20260417T110753
CREATED:20241108T205956Z
LAST-MODIFIED:20241129T142934Z
UID:10000067-1810020600-1810027800@executiveopportunitiesforum.com
SUMMARY:EOF Meeting
DESCRIPTION:
URL:https://executiveopportunitiesforum.com/event/eof-meeting/2027-05-11/
END:VEVENT
BEGIN:VEVENT
DTSTART;TZID=America/Denver:20270525T073000
DTEND;TZID=America/Denver:20270525T093000
DTSTAMP:20260417T110753
CREATED:20241108T205956Z
LAST-MODIFIED:20241129T142934Z
UID:10000068-1811230200-1811237400@executiveopportunitiesforum.com
SUMMARY:EOF Meeting
DESCRIPTION:
URL:https://executiveopportunitiesforum.com/event/eof-meeting/2027-05-25/
END:VEVENT
BEGIN:VEVENT
DTSTART;TZID=America/Denver:20270608T073000
DTEND;TZID=America/Denver:20270608T093000
DTSTAMP:20260417T110753
CREATED:20241108T205956Z
LAST-MODIFIED:20241129T142934Z
UID:10000069-1812439800-1812447000@executiveopportunitiesforum.com
SUMMARY:EOF Meeting
DESCRIPTION:
URL:https://executiveopportunitiesforum.com/event/eof-meeting/2027-06-08/
END:VEVENT
END:VCALENDAR